BEGIN:VCALENDAR
VERSION:2.0
PRODID:icalendar-ruby
CALSCALE:GREGORIAN
METHOD:PUBLISH
BEGIN:VEVENT
DTSTAMP:20260423T160826Z
UID:11-1676147@npcf.com
DTSTART:20260808T220000Z
DTEND:20260808T230000Z
CLASS:PUBLIC
CREATED:20260423T082710
DESCRIPTION:Listen to Season Watch\, Saturdays and Sundays at 3:00 p.m.\, 
 where we observe the events happening on earth through biblical binoculars
 \, because the Bible is both timely and timeless.
LAST-MODIFIED:20260423T082710
LOCATION:Online
SUMMARY:Season Watch with Wendy Scott
URL;VALUE=URI:https://www.npcf.com/events/season-watch-with-wendy-scott/202
 6-08-08
END:VEVENT
END:VCALENDAR
