BEGIN:VCALENDAR
VERSION:2.0
PRODID:icalendar-ruby
CALSCALE:GREGORIAN
METHOD:PUBLISH
BEGIN:VEVENT
DTSTAMP:20260423T144322Z
UID:11-1675377@npcf.com
DTSTART:20260801T220000Z
DTEND:20260801T230000Z
CLASS:PUBLIC
CREATED:20260423T053444
DESCRIPTION:Listen to Season Watch\, Saturdays and Sundays at 3:00 p.m.\, 
 where we observe the events happening on earth through biblical binoculars
 \, because the Bible is both timely and timeless.
LAST-MODIFIED:20260423T053444
LOCATION:Online
SUMMARY:Season Watch with Wendy Scott
URL;VALUE=URI:https://www.npcf.com/events/season-watch-with-wendy-scott/202
 6-08-01
END:VEVENT
END:VCALENDAR
