BEGIN:VCALENDAR
VERSION:2.0
PRODID:icalendar-ruby
CALSCALE:GREGORIAN
METHOD:PUBLISH
BEGIN:VEVENT
DTSTAMP:20260424T061750Z
UID:10-1679131@npcf.com
DTSTART:20261024T010000Z
DTEND:20261024T023000Z
CLASS:PUBLIC
CREATED:20260423T200625
DESCRIPTION:A night of Bible study and fellowship
LAST-MODIFIED:20260423T200625
LOCATION:La Mesa
SUMMARY:Friday Night
URL;VALUE=URI:https://www.npcf.com/events/friday-night/2026-10-23
END:VEVENT
END:VCALENDAR
