BEGIN:VCALENDAR
VERSION:2.0
PRODID:icalendar-ruby
CALSCALE:GREGORIAN
METHOD:PUBLISH
BEGIN:VEVENT
DTSTAMP:20260424T025455Z
UID:10-1678358@npcf.com
DTSTART:20261003T010000Z
DTEND:20261003T023000Z
CLASS:PUBLIC
CREATED:20260423T171154
DESCRIPTION:A night of Bible study and fellowship
LAST-MODIFIED:20260423T171154
LOCATION:La Mesa
SUMMARY:Friday Night
URL;VALUE=URI:https://www.npcf.com/events/friday-night/2026-10-02
END:VEVENT
END:VCALENDAR
