BEGIN:VCALENDAR
VERSION:2.0
PRODID:icalendar-ruby
CALSCALE:GREGORIAN
METHOD:PUBLISH
BEGIN:VEVENT
DTSTAMP:20260423T230133Z
UID:10-1677586@npcf.com
DTSTART:20260912T010000Z
DTEND:20260912T023000Z
CLASS:PUBLIC
CREATED:20260423T141839
DESCRIPTION:A night of Bible study and fellowship
LAST-MODIFIED:20260423T141839
LOCATION:La Mesa
SUMMARY:Friday Night
URL;VALUE=URI:https://www.npcf.com/events/friday-night/2026-09-11
END:VEVENT
END:VCALENDAR
