BEGIN:VCALENDAR
VERSION:2.0
PRODID:icalendar-ruby
CALSCALE:GREGORIAN
METHOD:PUBLISH
BEGIN:VEVENT
DTSTAMP:20260423T190712Z
UID:10-1676814@npcf.com
DTSTART:20260822T010000Z
DTEND:20260822T023000Z
CLASS:PUBLIC
CREATED:20260423T112400
DESCRIPTION:A night of Bible study and fellowship
LAST-MODIFIED:20260423T112400
LOCATION:La Mesa
SUMMARY:Friday Night
URL;VALUE=URI:https://www.npcf.com/events/friday-night/2026-08-21
END:VEVENT
END:VCALENDAR
