BEGIN:VCALENDAR
VERSION:2.0
PRODID:icalendar-ruby
CALSCALE:GREGORIAN
METHOD:PUBLISH
BEGIN:VEVENT
DTSTAMP:20260423T162927Z
UID:10-1676043@npcf.com
DTSTART:20260808T010000Z
DTEND:20260808T023000Z
CLASS:PUBLIC
CREATED:20260423T082709
DESCRIPTION:A night of Bible study and fellowship
LAST-MODIFIED:20260423T082709
LOCATION:La Mesa
SUMMARY:Friday Night
URL;VALUE=URI:https://www.npcf.com/events/friday-night/2026-08-07
END:VEVENT
END:VCALENDAR
