BEGIN:VCALENDAR
VERSION:2.0
PRODID:icalendar-ruby
CALSCALE:GREGORIAN
METHOD:PUBLISH
BEGIN:VEVENT
DTSTAMP:20260423T150808Z
UID:10-1675273@npcf.com
DTSTART:20260801T010000Z
DTEND:20260801T023000Z
CLASS:PUBLIC
CREATED:20260423T053443
DESCRIPTION:A night of Bible study and fellowship
LAST-MODIFIED:20260423T053443
LOCATION:La Mesa
SUMMARY:Friday Night
URL;VALUE=URI:https://www.npcf.com/events/friday-night/2026-07-31
END:VEVENT
END:VCALENDAR
