BEGIN:VCALENDAR
VERSION:2.0
PRODID:icalendar-ruby
CALSCALE:GREGORIAN
METHOD:PUBLISH
BEGIN:VEVENT
DTSTAMP:20260423T080927Z
UID:10-1674499@npcf.com
DTSTART:20260627T010000Z
DTEND:20260627T023000Z
CLASS:PUBLIC
CREATED:20260422T200427
DESCRIPTION:A night of Bible study and fellowship
LAST-MODIFIED:20260422T200427
LOCATION:La Mesa
SUMMARY:Friday Night
URL;VALUE=URI:https://www.npcf.com/events/friday-night/2026-06-26
END:VEVENT
END:VCALENDAR
